Workbook
Name Administrativo: Listas!$A$32:$A$36
Name Anticorrupcion: Listas!$A$39:$A$40
Name Argentina: Listas!#REF!
Name Colombia: Listas!#REF!
Name Dependencias: Listas!$A$2:$A$10
Name Ecuador: Listas!#REF!
Name Metas: Listas!$B$13:$B$18
Name Objetivos: Listas!$A$13:$A$18
Name Pais: Listas!#REF!
Name Rubro: Listas!$A$22:$A$28

Sheet PLAN ACCIÓN
D1: FORMATO: PLAN DE ACCIÓN
D2: AGENCIA DE RENOVACIÓN DEL TERRITORIO
C5: NOMBRE DIRECCIÓN/OFICINA | H5: CONTROL INTERNO
C7: VIGENCIA | G7: 2018
P8: SEGUIMIENTO EJECUCIÓN META | AD8: SEGUIMIENTO EJECUCIÓN PRESUPUESTAL Cifras en millones de pesos
A9: No. | B9: Objetivo Estratégico | C9: Meta del Plan Estratégico a la que contribuye | D9: Producto | E9: Meta Anual | F9: Avance Meta Anual | G9: Actividad | I9: Fecha de Inicio | J9: Fecha de Finalización | K9: Recursos Financieros requeridos (Cifras en pesos) | L9: Rubro | M9: Fuente de verificación | N9: Política de Desarrollo Administrativo | O9: Plan Anticorrupción y de Atención al Ciudadano (Si / No) | P9: ENERO | Q9: FEBRERO | R9: MARZO | S9: ABRIL | T9: MAYO | U9: JUNIO | V9: JULIO | W9: AGOSTO | X9: SEPTIEMBRE | Y9: OCTUBRE | Z9: NOVIEMBRE | AA9: DICIEMBRE | AB9: % Avance | AD9: ENERO | AE9: FEBRERO | AF9: MARZO | AG9: ABRIL | AH9: MAYO | AI9: JUNIO | AJ9: JULIO | AK9: AGOSTO | AL9: SEPTIEMBRE | AM9: OCTUBRE | AN9: NOVIEMBRE | AO9: DICIEMBRE | AP9: % Avance | AR9: OBSERVACIONES
A10: 1 | B10: Fortalecer los recursos institucionales para garantizar una gestión efectiva que responda a las necesidades de los clientes con altos estándares de calidad. | C10: =+VLOOKUP($B10,Listas!$A$12:$B$18,2,FALSE) -> Políticas de buen gobierno definidas e implementadas | D10: PLAN ANUAL DE AUDITORIAS INTERNAS PAAI | E10: 5 | G10: 1 | H10: Comités de Coordinación del Sistema de Control Interno | I10: 43160 | J10: 43465 | M10: Actas de Comité | O10: NO | R10: 1 | AB10: =+SUM(P10:AA10)/E10 -> 0.2 | AR10: Acta de comité N° 1 12/03/2018
E11: 1 | G11: 2 | H11: Asistir a Comités Sectoriales de Control Interno | I11: 43101 | J11: 43465 | M11: Actas de Comité | AR11: Actividad por demanda
E12: 1 | G12: 3 | H12: Asistir a Comité de Dirección de la ART | I12: 43101 | J12: 43465 | M12: Actas de Comité | R12: 1 | AB12: 1 | AR12: Actividad por demanda (el 12/03/2018)
E13: 1 | G13: 4 | H13: Elaboración del Plan Anual de Auditorias | I13: 43101 | J13: 43131 | M13: Actas de Comité | P13: 1 | AB13: =+SUM(P13:AA13)/E13 -> 1 | AR13: A la espera que la Dirección agende la fecha del comité Coordinador del Sistema de Control Interno para aprobación del Plan Anual de Auditorias
A14: 2 | B14: Fortalecer los recursos institucionales para garantizar una gestión efectiva que responda a las necesidades de los clientes con altos estándares de calidad. | C14: =+VLOOKUP($B14,Listas!$A$12:$B$18,2,FALSE) -> Políticas de buen gobierno definidas e implementadas | E14: 24 | G14: 5 | H14: Asistir a Comité de Conciliación y defensa judicial | I14: 43101 | J14: 43465 | M14: Actas de Comité - Invitación Correo Electrónico. | O14: NO | P14: 2 | Q14: 2 | R14: 2 | AB14: =+SUM(P14:AA14)/E14 -> 0.25
E15: 1 | G15: 6 | H15: Asistir a Comité de Contratación | I15: 43101 | J15: 43465 | M15: Actas de Comité - Invitación Correo Electrónico. | P15: 1 | Q15: 1 | R15: 1 | AB15: 1 | AR15: Actividad por demanda: Uno en enero, dos en febrero y dos en marzo
E16: 4 | G16: 7 | H16: Asistir a Comité de Desarrollo Administrativo | I16: 43101 | J16: 43465 | M16: Actas de Comité
E17: 1 | G17: 8 | H17: Asistir a Comité de Evaluación de Bienes | I17: 43101 | J17: 43465 | M17: Actas de Comité | AR17: Actividad por demanda
E18: 2 | G18: 9 | H18: Asistir a Comité de Sostenibilidad Contable | I18: 43101 | J18: 43465 | M18: Actas de Comité
E19: 1 | G19: 10 | H19: Realizar Acompañamientos y/o Asesorías Procesos | I19: 43101 | J19: 43465 | M19: Listado de Asistencia | R19: 1 | AB19: 1 | AR19: Actividad por demanda: Acompañamiento a Subasta Inversa y a lineamentos proceso electoral .
E20: 4 | G20: 11 | H20: Elaborar y difundir Campañas de autocontrol (Sensibilizaciones / Capacitaciones) | I20: 43132 | J20: 43394 | M20: Presentaciones Campañas | R20: 1 | AB20: =+SUM(P20:AA20)/4 -> 0.25 | AR20: Se diseño y se divulgo en correros electrónicos y en los fondos de escritorio equipos de computo.
E21: 11 | G21: 12 | H21: Realizar seguimiento envío información de Convenios de Cooperación DIAN. | I21: 43132 | J21: 43465 | M21: Informe | P21: 1 | Q21: 1 | R21: 1 | AB21: =+SUM(P21:AA21)/11 -> 0.27272727
E22: 2 | G22: 13 | H22: Realizar seguimiento a la relación de acreencias a favor de la ART pendientes de pago | I22: 43252 | J22: 43465 | M22: Informe
E23: 2 | G23: 14 | H23: Realizar seguimiento a los contratos o convenios vigentes que hayan suscrito con terceros para la Administración de Recursos de la ART | I23: 43252 | J23: 43465 | M23: Informe
E24: 1 | G24: 15 | H24: Seguimiento cumplimiento de ley de Cuotas 581/2000 | I24: 43344 | J24: 43373 | M24: Informe
A25: 3 | B25: Fortalecer los recursos institucionales para garantizar una gestión efectiva que responda a las necesidades de los clientes con altos estándares de calidad. | C25: =+VLOOKUP($B25,Listas!$A$12:$B$18,2,FALSE) -> Políticas de buen gobierno definidas e implementadas | E25: 1 | G25: 16 | H25: Recibir las solicitudes de los entes de control, brindar asesoría y acompañamiento, coordinar con los líderes de los procesos las respuestas correspondientes y hacer seguimiento de los requerimientos de información de Entes Externos de Control | I25: 43101 | J25: 43465 | M25: Oficios | O25: NO | P25: 1 | Q25: 1 | R25: 1 | AB25: 1 | AR25: Actividad por demanda: 10 requerimientos auditoría Regular CGR, 3 solicitudes de la CGR; 7 de la Procuraduría, 1 Defensoría del Pueblo, 1 Secretaría de Transparencia y 1 Ministerio de Hacienda
E26: 1 | G26: 17 | H26: Coordinar con los líderes de los procesos la elaboración de los planes de mejoramiento y, asesorar sobre metodologías para realizar un adecuado análisis e identificación de causas. | I26: 43282 | J26: 43465 | M26: Listado de Asistencia | AR26: Actividad por demanda
A27: 4 | B27: Fortalecer los recursos institucionales para garantizar una gestión efectiva que responda a las necesidades de los clientes con altos estándares de calidad. | C27: =+VLOOKUP($B27,Listas!$A$12:$B$18,2,FALSE) -> Políticas de buen gobierno definidas e implementadas | E27: 1 | G27: 18 | H27: Asesorías / formación en riesgos sobre metodología y herramientas. | I27: 43160 | J27: 43465 | M27: Listado de Asistencia | O27: NO | AR27: Actividad por demanda
E28: 1 | G28: 19 | H28: Evaluaciones de riesgos identificados conforme al Plan de Implementación del MIPG ( diseño, ejecución, nivel de madurez, efectividad de controles) | I28: 43282 | J28: 43311 | M28: Informe
E29: 1 | G29: 20 | H29: Seguimiento al Mapa de Riesgos y Plan de Manejo de Riesgos por proceso | I29: 43344 | J29: 43373 | M29: Informe
A30: 5 | B30: Fortalecer los recursos institucionales para garantizar una gestión efectiva que responda a las necesidades de los clientes con altos estándares de calidad. | C30: =+VLOOKUP($B30,Listas!$A$12:$B$18,2,FALSE) -> Políticas de buen gobierno definidas e implementadas | E30: 6 | G30: 21 | H30: Arqueos de caja menor | I30: 43160 | J30: 43465 | M30: Formato de Arqueo de Caja | Q30: 1 | AB30: =+SUM(P30:AA30)/6 -> 0.16666667
E31: 3 | G31: 22 | H31: Seguimiento al Sistema Único de Información de Personal SIGEP | I31: 43160 | J31: 43465 | M31: Informe | AR31: La DAFP con el Decreto 484 del 24 de marzo de 2017: “Por el cual se modifican unos artículos del Título 16 del Decreto 1083 de 2015, Único Reglamentario del Sector de Función Pública”, en específico lo concerniente a la presentación de la Declaración de Bienes y Rentas, a lo que el artículo 2°, precisa lo siguiente: "Artículo 2.2.16.4. Actualización de la declaración de bienes y rentas y de la actividad económica. La actualización de la declaración de bienes y rentas y de la actividad económica será efectuada a través del Sistema de Información y Gestión de Empleo Público-SIGEP y presentada por los servidores públicos para cada anualidad en el siguiente orden: a) Servidores públicos de las entidades y organismos públicos de orden nacional entre el 10 de abril y el 31 de mayo de cada vigencia.(…)” Lo cual afecta el cronograma de Actividades Plan Anual de Auditaría Interna PAAI del GIT de Control Interno, y se realizara el primer seguimiento en el mes de junio.
E32: 2 | G32: 23 | H32: Informe de Seguimiento a la gestión de PQRSD | I32: 43160 | J32: 43465 | M32: Informe | O32: SI | R32: 1 | AB32: =+SUM(P32:AA32)/2 -> 0.5 | AR32: Se público en la Página Web Institucional
E33: 2 | G33: 24 | H33: Informe de Seguimiento al Plan Estratégico Institucional y Plan de Acción de la ART | I33: 43160 | J33: 43465 | M33: Informe | AR33: El informe se encuentra en revisión
E34: 3 | G34: 25 | H34: Informe de Seguimiento a las estrategias del Plan Anticorrupción y de Atención al Ciudadano, y Riesgos de Corrupción | I34: 43101 | J34: 43404 | M34: Informe | O34: SI | P34: 1 | AB34: =+SUM(P34:AA34)/3 -> 0.33333333 | AR34: Se público en la Página Web Institucional
E35: 4 | G35: 26 | H35: Informe de Seguimiento a la ejecución Presupuestal | I35: 43160 | J35: 43465 | M35: Informe | R35: 1 | AB35: =+SUM(P35:AA35)/4 -> 0.25 | AR35: Se público en la Página Web Institucional
E36: 1 | G36: 27 | H36: Evaluación a la Gestión por dependencias vigencia anterior | I36: 43101 | J36: 43159 | M36: Informe | O36: SI | Q36: 1 | AB36: =+SUM(P36:AA36)/1 -> 1
E37: 1 | G37: 28 | H37: Informe de Seguimiento al Plan de Acción de las Dependencias de la ART 2018 | I37: 43282 | J37: 43343 | M37: Informe
E38: 1 | G38: 29 | H38: Informe de Seguimiento al Plan de Eficiencia Administrativa y Cero Papel | I38: 43221 | J38: 43251 | M38: Informe
E39: 1 | G39: 30 | H39: Informe de Seguimiento a la implementación del MIPG | I39: 43252 | J39: 43312 | M39: Informe
E40: 2 | G40: 31 | H40: Informe de Seguimiento a las Funciones del Comité de Conciliaciones | I40: 43221 | J40: 43465 | M40: Informe
E41: 1 | G41: 32 | H41: Informe de Seguimiento al Sistema Integrado de Información Financiera, SIIF Nación. | I41: 43313 | J41: 43343 | M41: Informe
E42: 2 | G42: 33 | H42: Informe de seguimiento a los acuerdos de gestión | I42: 43191 | J42: 43434 | M42: Informe
E43: 3 | G43: 34 | H43: Informe pormenorizado del estado del control interno de la ART y publicación en la página Web. | I43: 43160 | J43: 43434 | M43: Informe | AR43: "El DAFP establece que el Informe Ejecutivo Anual inicialmente reglamentado a través del artículo 2.2.21.2.5 del Decreto 1083 de 2015, fue modificado por el Decreto 1499 de 2017, razón por la cual será a través del aplicativo FURAG que se estará recolectando la información sobre el avance del Sistema de Control Interno en todas las entidades, por tratarse de una dimensión del Modelo Integrado de Planeación y Gestión MIPG. Finalmente, en cuanto a la periodicidad para este reporte, será necesario estar atentos a nuestra página web, donde oportunamente estaremos informando los lineamientos correspondientes que imparta el Consejo para la Gestión y el Desempeño Institucional. A corte 31 de marzo de la presente vigencia el DAFP no establecido las fechas de presentación del informe, con lo cual se afecta el cronograma de Actividades Plan Anual de Auditaría Interna PAAI del GIT de Control Interno"
...

Sheet Listas
A1: DEPENDENCIAS
A2: DIRECCIÓN GENERAL
A3: OFICINA DE PLANEACIÓN
A4: OFICINA DE COMUNICACIONES
A5: OFICINA JURÍDICA
A6: CONTROL INTERNO
A7: DIRECCIÓN DE INTERVENCIÓN EN EL TERRITORIO
A8: DIRECCIÓN DE ESTRUCTURACIÓN DE PROYECTOS
A9: DIRECCIÓN DE EVALUACIÓN Y EJECUCIÓN DE PROYECTOS
A10: SECRETARÍA GENERAL
A12: OBJETIVOS ESTRATÉGICOS | B12: METAS DE PLAN ESTRATÉGICO
A13: Garantizar la Participación de los actores de los territorios para la construcción de una visión de futuro, la planeación de iniciativas y acciones concretas y su ejecución, seguimiento y control. | B13: 170 Planes Municipales de Renovación Territorial 16 PDETs
A14: Proveer Bienes y Servicios públicos a los territorios para mejorar la calidad de vida de su población | B14: 120 municipios con Pequeña Infraestructura Comunitaria 51 Obras de infraestructura 50/51
A15: Implementar estrategias de desarrollo productivo sostenible y generación de ingresos para las comunidades en los territorios | B15: 280 nuevas familias Familias beneficiadas con proyectos de generación de ingresos 5 Organizaciones apoyadas con procesos de fortalecimiento de proyectos de generación de ingresos
A16: Aumentar la capacidad de gobernanza y gobernabilidad de las entidades territoriales y las organizaciones sociales y productivas. | B16: 16 organizaciones sociales fortalecidas
A17: Asegurar la concurrencia efectiva de los actores estratégicos en la toma de decisiones y en la ejecución de las acciones orientadas a la renovación territorial. | B17: 80 Proyectos cofinanciados del banco de proyectos de la ART 80 Proyectos con seguimiento y evaluación
A18: Fortalecer los recursos institucionales para garantizar una gestión efectiva que responda a las necesidades de los clientes con altos estándares de calidad. | B18: Políticas de buen gobierno definidas e implementadas
A21: RUBRO
A22: C-1710-1100-1 Implementación De Mecanismos De Planificación Participativa Y Fortalecimiento De Capacidades A Los Actores Territoriales En Zonas Priorizadas Por El Acuerdo De Paz Y El Posconflicto A Nivel Nacional
A23: C-1710-1100-2 Implementación De Actividades Para La Reactivación Económica, Social Y Ambiental En Las Zonas Focalizadas Por Los Programas De Desarrollo Con Enfoque Territorial - Pdetnivel Nacional
A24: C-1710-1100-3 Implementación De Estrategias De Cofinanciación En El Marco De Los Programas De Desarrollo Con Enfoque Territorial Nacional - Previo Concepto Dnp
A25: C-1710-1100-4 Implementación De Obras De Pequeña Y Mediana Infraestructura Para El Desarrollo De Los Territorios Afectados Por El Conflicto Armado Y Cultivos De Uso Ilícito
A26: C-1710-1100-5 Implementación De Actividades De Fortalecimiento Institucional, Social Y Comunitario En Zonas Afectadas Por El Conflicto Armado Y Por Los Cultivos De Uso Ilícito
A27: C-1799-1100-1 Implementación De Las Tecnologías De Información Y Comunicaciones Para La Renovación Del Territorio Nacional
A28: A102. Servicios Personales Indirectos
A31: POLÍTICA DE DESARROLLO ADMINISTRATIVO
A32: Gestión misional y de Gobierno
A33: Transparencia, participación y servicio al ciudadano
A34: Eficiencia Administrativa
... A40: NO
